BEGIN:VCALENDAR
VERSION:2.0
PRODID:-//ALPACA VIEW FARM - ECPv6.15.20//NONSGML v1.0//EN
CALSCALE:GREGORIAN
METHOD:PUBLISH
X-ORIGINAL-URL:https://alpacaview-farm.com
X-WR-CALDESC:Veranstaltungen für ALPACA VIEW FARM
REFRESH-INTERVAL;VALUE=DURATION:PT1H
X-Robots-Tag:noindex
X-PUBLISHED-TTL:PT1H
BEGIN:VTIMEZONE
TZID:Europe/Berlin
BEGIN:DAYLIGHT
TZOFFSETFROM:+0100
TZOFFSETTO:+0200
TZNAME:CEST
DTSTART:20250330T010000
END:DAYLIGHT
BEGIN:STANDARD
TZOFFSETFROM:+0200
TZOFFSETTO:+0100
TZNAME:CET
DTSTART:20251026T010000
END:STANDARD
BEGIN:DAYLIGHT
TZOFFSETFROM:+0100
TZOFFSETTO:+0200
TZNAME:CEST
DTSTART:20260329T010000
END:DAYLIGHT
BEGIN:STANDARD
TZOFFSETFROM:+0200
TZOFFSETTO:+0100
TZNAME:CET
DTSTART:20261025T010000
END:STANDARD
BEGIN:DAYLIGHT
TZOFFSETFROM:+0100
TZOFFSETTO:+0200
TZNAME:CEST
DTSTART:20270328T010000
END:DAYLIGHT
BEGIN:STANDARD
TZOFFSETFROM:+0200
TZOFFSETTO:+0100
TZNAME:CET
DTSTART:20271031T010000
END:STANDARD
END:VTIMEZONE
BEGIN:VEVENT
DTSTART;TZID=Europe/Berlin:20260502T110000
DTEND;TZID=Europe/Berlin:20260502T140000
DTSTAMP:20260422T115406
CREATED:20260325T121017Z
LAST-MODIFIED:20260420T111057Z
UID:5705-1777719600-1777730400@alpacaview-farm.com
SUMMARY:Sa. 02.05.2026 – Alpakawanderung
DESCRIPTION:Alpakawanderung durch den schönen Naturpark Schwalm Nette.\nBeginn: 11 Uhr\nDauer: ca. 3 Std.\n2 Std. Trekken\n1 Std. auf dem Hof und auf der Wiese bei den übrigen Tieren.\nSoftgetränke/Kaffee/Tee GRATIS!\nMax. 8 Personen mit Tier\nMax. 8 Personen ohne Tier\nKeine Teilnahme unter 10 Jahren\nKein Führen eines Tieres durch Kinder unter 14 Jahren\nKinder unter 18 Jahren nur in Begleitung eines Erwachsenen.\nKeine Mitnahme von Hunden\nNicht Barrierefrei!\nWandertaugliches\, festes Schuhwerk\nWetterangepasste Kleidung\nMücken und Sonnenschutz je nach Witterung.
URL:https://alpacaview-farm.com/event/sa-02-05-2026-alpakawanderung
LOCATION:Alpaca View Farm\, Borner Str. 24\, Niederkrüchten\, NRW\, 41372\, Deutschland
END:VEVENT
BEGIN:VEVENT
DTSTART;TZID=Europe/Berlin:20260509T110000
DTEND;TZID=Europe/Berlin:20260509T140000
DTSTAMP:20260422T115406
CREATED:20260325T121521Z
LAST-MODIFIED:20260326T070734Z
UID:5712-1778324400-1778335200@alpacaview-farm.com
SUMMARY:Sa. 09.05.2026 – Alpakawanderung
DESCRIPTION:Alpakawanderung durch den schönen Naturpark Schwalm Nette.\nBeginn: 11 Uhr\nDauer: ca. 3 Std.\n2 Std. Trekken\n1 Std. auf dem Hof und auf der Wiese bei den übrigen Tieren.\nSoftgetränke/Kaffee/Tee GRATIS!\nMax. 4 Personen mit Tier\nMax. 4 Personen ohne Tier\nKeine Teilnahme unter 10 Jahren\nKein Führen eines Tieres durch Kinder unter 14 Jahren\nKinder unter 18 Jahren nur in Begleitung eines Erwachsenen.\nKeine Mitnahme von Hunden\nNicht Barrierefrei!\nWandertaugliches\, festes Schuhwerk\nWetterangepasste Kleidung\nMücken und Sonnenschutz je nach Witterung.
URL:https://alpacaview-farm.com/event/sa-09-05-2026-alpakawanderung
LOCATION:Alpaca View Farm\, Borner Str. 24\, Niederkrüchten\, NRW\, 41372\, Deutschland
END:VEVENT
BEGIN:VEVENT
DTSTART;TZID=Europe/Berlin:20260517T110000
DTEND;TZID=Europe/Berlin:20260517T140000
DTSTAMP:20260422T115406
CREATED:20260325T121921Z
LAST-MODIFIED:20260326T070811Z
UID:5717-1779015600-1779026400@alpacaview-farm.com
SUMMARY:So. 17.05.2026 – Alpakawanderung
DESCRIPTION:Alpakawanderung durch den schönen Naturpark Schwalm Nette.\nBeginn: 11 Uhr\nDauer: ca. 3 Std.\n2 Std. Trekken\n1 Std. auf dem Hof und auf der Wiese bei den übrigen Tieren.\nSoftgetränke/Kaffee/Tee GRATIS!\nMax. 8 Personen mit Tier\nMax. 8 Personen ohne Tier\nKeine Teilnahme unter 10 Jahren\nKein Führen eines Tieres durch Kinder unter 14 Jahren\nKinder unter 18 Jahren nur in Begleitung eines Erwachsenen.\nKeine Mitnahme von Hunden\nNicht Barrierefrei!\nWandertaugliches\, festes Schuhwerk\nWetterangepasste Kleidung\nMücken und Sonnenschutz je nach Witterung.
URL:https://alpacaview-farm.com/event/so-17-05-2026-alpakawanderung
LOCATION:Alpaca View Farm\, Borner Str. 24\, Niederkrüchten\, NRW\, 41372\, Deutschland
END:VEVENT
BEGIN:VEVENT
DTSTART;TZID=Europe/Berlin:20260523T110000
DTEND;TZID=Europe/Berlin:20260523T140000
DTSTAMP:20260422T115406
CREATED:20260325T122056Z
LAST-MODIFIED:20260326T070846Z
UID:5722-1779534000-1779544800@alpacaview-farm.com
SUMMARY:Sa. 23.05.2026 – Alpakawanderung
DESCRIPTION:Alpakawanderung durch den schönen Naturpark Schwalm Nette.\nBeginn: 11 Uhr\nDauer: ca. 3 Std.\n2 Std. Trekken\n1 Std. auf dem Hof und auf der Wiese bei den übrigen Tieren.\nSoftgetränke/Kaffee/Tee GRATIS!\nMax. 8 Personen mit Tier\nMax. 8 Personen ohne Tier\nKeine Teilnahme unter 10 Jahren\nKein Führen eines Tieres durch Kinder unter 14 Jahren\nKinder unter 18 Jahren nur in Begleitung eines Erwachsenen.\nKeine Mitnahme von Hunden\nNicht Barrierefrei!\nWandertaugliches\, festes Schuhwerk\nWetterangepasste Kleidung\nMücken und Sonnenschutz je nach Witterung.
URL:https://alpacaview-farm.com/event/sa-23-05-2026-alpakawanderung
LOCATION:Alpaca View Farm\, Borner Str. 24\, Niederkrüchten\, NRW\, 41372\, Deutschland
END:VEVENT
BEGIN:VEVENT
DTSTART;TZID=Europe/Berlin:20260531T110000
DTEND;TZID=Europe/Berlin:20260531T140000
DTSTAMP:20260422T115406
CREATED:20260325T122230Z
LAST-MODIFIED:20260325T123226Z
UID:5727-1780225200-1780236000@alpacaview-farm.com
SUMMARY:So. 31.05.2026 – Alpakawanderung
DESCRIPTION:Alpakawanderung durch den schönen Naturpark Schwalm Nette.\nBeginn: 11 Uhr\nDauer: ca. 3 Std.\n2 Std. Trekken\n1 Std. auf dem Hof und auf der Wiese bei den übrigen Tieren.\nSoftgetränke/Kaffee/Tee GRATIS!\nMax. 8 Personen mit Tier\nMax. 8 Personen ohne Tier\nKeine Teilnahme unter 10 Jahren\nKein Führen eines Tieres durch Kinder unter 14 Jahren\nKinder unter 18 Jahren nur in Begleitung eines Erwachsenen.\nKeine Mitnahme von Hunden\nNicht Barrierefrei!\nWandertaugliches\, festes Schuhwerk\nWetterangepasste Kleidung\nMücken und Sonnenschutz je nach Witterung.
URL:https://alpacaview-farm.com/event/so-31-05-2026-alpakawanderung
LOCATION:Alpaca View Farm\, Borner Str. 24\, Niederkrüchten\, NRW\, 41372\, Deutschland
END:VEVENT
END:VCALENDAR